BEGIN:VCALENDAR
VERSION:2.0
PRODID:-//Shifting Gears United - ECPv6.15.20//NONSGML v1.0//EN
CALSCALE:GREGORIAN
METHOD:PUBLISH
X-ORIGINAL-URL:https://shiftinggearsunited.org
X-WR-CALDESC:Events for Shifting Gears United
REFRESH-INTERVAL;VALUE=DURATION:PT1H
X-Robots-Tag:noindex
X-PUBLISHED-TTL:PT1H
BEGIN:VTIMEZONE
TZID:America/New_York
BEGIN:DAYLIGHT
TZOFFSETFROM:-0500
TZOFFSETTO:-0400
TZNAME:EDT
DTSTART:20250309T070000
END:DAYLIGHT
BEGIN:STANDARD
TZOFFSETFROM:-0400
TZOFFSETTO:-0500
TZNAME:EST
DTSTART:20251102T060000
END:STANDARD
BEGIN:DAYLIGHT
TZOFFSETFROM:-0500
TZOFFSETTO:-0400
TZNAME:EDT
DTSTART:20260308T070000
END:DAYLIGHT
BEGIN:STANDARD
TZOFFSETFROM:-0400
TZOFFSETTO:-0500
TZNAME:EST
DTSTART:20261101T060000
END:STANDARD
BEGIN:DAYLIGHT
TZOFFSETFROM:-0500
TZOFFSETTO:-0400
TZNAME:EDT
DTSTART:20270314T070000
END:DAYLIGHT
BEGIN:STANDARD
TZOFFSETFROM:-0400
TZOFFSETTO:-0500
TZNAME:EST
DTSTART:20271107T060000
END:STANDARD
END:VTIMEZONE
BEGIN:VEVENT
DTSTART;TZID=America/New_York:20260328T100000
DTEND;TZID=America/New_York:20260328T130000
DTSTAMP:20260424T033531
CREATED:20260310T193621Z
LAST-MODIFIED:20260310T193621Z
UID:10011173-1774692000-1774702800@shiftinggearsunited.org
SUMMARY:Beach Cleanup & Picnic at John D. MacArthur Beach State Park
DESCRIPTION:Date: March 28\, 2026\nTime: 10:00 AM – 1:00 PM\nLocation: John D. MacArthur Beach State Park\, 10900 Jack Nicklaus Dr\, North Palm Beach\, FL 33408 \nJoin Shifting Gears United for a fun and meaningful morning at the beach! Bring your family and help us care for our coastline during a family-friendly beach cleanup—cleanup supplies will be provided. After making a positive impact together\, relax and connect with other families over a delicious boxed lunch picnic at the South Pavilion.
URL:https://shiftinggearsunited.org/event/beach-cleanup-picnic-at-john-d-macarthur-beach-state-park/
LOCATION:John D. MacArthur Beach State Park\, 10900 Jack Nicklaus Dr\, North Palm Beach\, FL\, 33408\, United States
CATEGORIES:Community Event
ATTACH;FMTTYPE=image/png:https://shiftinggearsunited.org/wp-content/uploads/2026/03/picnic_image.png
END:VEVENT
BEGIN:VEVENT
DTSTART;TZID=America/New_York:20260207T110000
DTEND;TZID=America/New_York:20260207T160000
DTSTAMP:20260424T033531
CREATED:20260116T203132Z
LAST-MODIFIED:20260116T203132Z
UID:10011125-1770462000-1770480000@shiftinggearsunited.org
SUMMARY:Visit Shifting Gears United at the Jupiter Jubilee!
DESCRIPTION:Join us for a day packed with music\, fun\, and festivities as we celebrate our amazing community at the Jupiter Jubilee! Swing by our booth to test your skills at our fan-favorite Ring Toss\, and enjoy goodie giveaways and sweet treats for all ages. Discover what makes Shifting Gears United special and learn about our exciting snorkeling\, kayaking\, and paddle boarding events. Connect\, play\, and take home a little magic — we can’t wait to see you there! \nDate: Saturday\, February 7\, 2026\nTime: 11:00 am to 4:00 pm\nLocation:\nTown of Jupiter Municipal Campus\n210 Military Trail\, Jupiter\, FL 33458
URL:https://shiftinggearsunited.org/event/visit-shifting-gears-united-at-the-jupiter-jubilee/
LOCATION:Town of Jupiter Municipal Campus\, 210 Military Trail\, Jupiter\, FL\, 33458\, United States
CATEGORIES:Community Event
END:VEVENT
END:VCALENDAR