BEGIN:VCALENDAR
VERSION:2.0
PRODID:-//Shifting Gears United - ECPv6.15.20//NONSGML v1.0//EN
CALSCALE:GREGORIAN
METHOD:PUBLISH
X-WR-CALNAME:Shifting Gears United
X-ORIGINAL-URL:https://shiftinggearsunited.org
X-WR-CALDESC:Events for Shifting Gears United
REFRESH-INTERVAL;VALUE=DURATION:PT1H
X-Robots-Tag:noindex
X-PUBLISHED-TTL:PT1H
BEGIN:VTIMEZONE
TZID:America/New_York
BEGIN:DAYLIGHT
TZOFFSETFROM:-0500
TZOFFSETTO:-0400
TZNAME:EDT
DTSTART:20250309T070000
END:DAYLIGHT
BEGIN:STANDARD
TZOFFSETFROM:-0400
TZOFFSETTO:-0500
TZNAME:EST
DTSTART:20251102T060000
END:STANDARD
BEGIN:DAYLIGHT
TZOFFSETFROM:-0500
TZOFFSETTO:-0400
TZNAME:EDT
DTSTART:20260308T070000
END:DAYLIGHT
BEGIN:STANDARD
TZOFFSETFROM:-0400
TZOFFSETTO:-0500
TZNAME:EST
DTSTART:20261101T060000
END:STANDARD
BEGIN:DAYLIGHT
TZOFFSETFROM:-0500
TZOFFSETTO:-0400
TZNAME:EDT
DTSTART:20270314T070000
END:DAYLIGHT
BEGIN:STANDARD
TZOFFSETFROM:-0400
TZOFFSETTO:-0500
TZNAME:EST
DTSTART:20271107T060000
END:STANDARD
END:VTIMEZONE
BEGIN:VEVENT
DTSTART;TZID=America/New_York:20260929T090000
DTEND;TZID=America/New_York:20260929T120000
DTSTAMP:20260422T181054
CREATED:20250912T221129Z
LAST-MODIFIED:20260303T212659Z
UID:10011167-1790672400-1790683200@shiftinggearsunited.org
SUMMARY:Kayak Paddling Clinic
DESCRIPTION:North Palm Beach Rowing Club\n13425 Ellison Wilson Road\nNorth Palm Beach\, FL 33408 \nGeneral Schedule (subject to change to accommodate individual group)\n8:00 am – Volunteer arrival\n9:00 am – Participants arrive to check-in\, sign waivers and attest that they can swim and are comfortable in the water.\n9:30 am – Program begins with on-land instruction\, followed by on water kayaking\n12:00 noon – Program Concludes \nEquipment\nShifting Gears United will provide kayaks\, paddleboards\, paddles and PFD [personal floatation device]. SGU has a limited supply of adaptive equipment which can be used to make your paddling experience enjoyable\, functional and safe. PFDs are required to be properly worn by all participants while on the water. \nWhat to Wear/Bring\nParticipants should wear appropriate clothing [no jeans\, sweat pants\, sweat shirts] and prepare to get wet. Footwear is encouraged as you may encounter sharp rocks or other objects. Also bring a hat\, sunglasses with holders\, prescriptive glasses holders\, sunscreen\, towels and other personal items as anticipated. We strongly suggest you NOT bring important items like wallets\, cell phones\, cameras on the kayak. Bottled water will be provided. \nPlease notify our program director or instructors of any special requests or needs prior upon arrival. \nVolunteers\nWe are always looking for the assistance of volunteers to help with our programs\, especially those with kayaking and paddleboard experience. Volunteers should plan to arrive a minimum of 30 minutes prior to program start for setup and stay 30 minutes after the end of the program to help clean\, secure and store gear. \nBrought to you by the generous sponsorship of:\n \n\n\n        \n            \n        \n        \n            \n                Multi-Sports Registration Form\n            \n            \n                \n                                        \n                    \n                    \n                        \n                            Personal Information\n                            \n                        \n                    \n\n                    \n                        \n                            First Name *\n                            \n                        \n                        \n                            Last Name *\n                            \n                        \n                    \n\n                    \n                        \n                            Address *\n                            \n                        \n                    \n\n                    \n                        \n                            City *\n                            \n                        \n                        \n                            State *\n                            \n                                Select State\n                                                                                                    Alabama\n                                                                    Alaska\n                                                                    Arizona\n                                                                    Arkansas\n                                                                    California\n                                                                    Colorado\n                                                                    Connecticut\n                                                                    Delaware\n                                                                    Florida\n                                                                    Georgia\n                                                                    Hawaii\n                                                                    Idaho\n                                                                    Illinois\n                                                                    Indiana\n                                                                    Iowa\n                                                                    Kansas\n                                                                    Kentucky\n                                                                    Louisiana\n                                                                    Maine\n                                                                    Maryland\n                                                                    Massachusetts\n                                                                    Michigan\n                                                                    Minnesota\n                                                                    Mississippi\n                                                                    Missouri\n                                                                    Montana\n                                                                    Nebraska\n                                                                    Nevada\n                                                                    New Hampshire\n                                                                    New Jersey\n                                                                    New Mexico\n                                                                    New York\n                                                                    North Carolina\n                                                                    North Dakota\n                                                                    Ohio\n                                                                    Oklahoma\n                                                                    Oregon\n                                                                    Pennsylvania\n                                                                    Rhode Island\n                                                                    South Carolina\n                                                                    South Dakota\n                                                                    Tennessee\n                                                                    Texas\n                                                                    Utah\n                                                                    Vermont\n                                                                    Virginia\n                                                                    Washington\n                                                                    West Virginia\n                                                                    Wisconsin\n                                                                    Wyoming\n                                                            \n                        \n                        \n                            ZIP Code *\n                            \n                        \n                    \n\n                    \n                        \n                            Phone Number *\n                            \n                        \n                        \n                            Date of Birth *\n                            \n                        \n                    \n\n                    \n                    \n                        \n                            Demographics\n                            \n                        \n                    \n\n                    \n                        \n                            \n                                Gender *\n                                \n                                    \n                                    Male\n                                \n                                \n                                    \n                                    Female\n                                \n                                \n                                    \n                                    LGBTQ+\n                                \n                            \n                        \n                        \n                            Race/Ethnicity\n                            \n                                Select (Optional)\n                                                                                                    White\n                                                                    Black or African American\n                                                                    Hispanic or Latino\n                                                                    Asian\n                                                                    American Indian or Alaska Native\n                                                                    Native Hawaiian or Other Pacific Islander\n                                                                    Two or More Races\n                                                                    Other\n                                                            \n                        \n                    \n\n                    \n                    \n                        \n                            Disability Information\n                            \n                        \n                    \n\n                    \n                        \n                            \n                                Do you have a disability? *\n                                \n                                    \n                                    Yes\n                                \n                                \n                                    \n                                    No\n                                \n                            \n                        \n                    \n\n                    \n                        \n                            \n                                Date of Disability\n                                \n                            \n                            \n                                \n                                    Is disability service related?\n                                    \n                                        \n                                        Yes\n                                    \n                                    \n                                        \n                                        No\n                                    \n                                \n                            \n                        \n\n                        \n                            \n                                Disability Details\n                                \n                            \n                        \n\n                        \n                            \n                                Place of Injury\n                                \n                            \n                        \n                    \n\n                    \n                    \n                        \n                            Military Information\n                            \n                        \n                    \n\n                    \n                        \n                            \n                                Are you a military veteran?\n                                \n                                    \n                                    Yes\n                                \n                                \n                                    \n                                    No\n                                \n                            \n                        \n                    \n\n                    \n                        \n                            \n                                Branch of Service\n                                \n                                    Select Branch\n                                                                            Army\n                                                                            Navy\n                                                                            Air Force\n                                                                            Marines\n                                                                            Coast Guard\n                                                                            Space Force\n                                                                            Other\n                                                                    \n                            \n                            \n                                \n                                    Service Period\n                                    \n                                        \n                                        Pre 2001\n                                    \n                                    \n                                        \n                                        Post 2001\n                                    \n                                \n                            \n                        \n                    \n\n                    \n                    \n                        \n                            Assistance and Mobility\n                            \n                        \n                    \n\n                    \n                        \n                            \n                                \n                                Require a guide\n                            \n                        \n                    \n\n                    \n                        \n                            \n                                Type of assistance needed\n                                \n                            \n                        \n                    \n\n                    \n                        \n                            Mobility aids used:\n                            \n                                                                                                    \n                                        \n                                            \n                                            Push Rim\n                                        \n                                    \n                                                                    \n                                        \n                                            \n                                            HC\n                                        \n                                    \n                                                                    \n                                        \n                                            \n                                            WC\n                                        \n                                    \n                                                                    \n                                        \n                                            \n                                            AMB\n                                        \n                                    \n                                                                    \n                                        \n                                            \n                                            AMB-Other\n                                        \n                                    \n                                                                    \n                                        \n                                            \n                                            Cane\n                                        \n                                    \n                                                                    \n                                        \n                                            \n                                            Crutches\n                                        \n                                    \n                                                                    \n                                        \n                                            \n                                            Prosthetics\n                                        \n                                    \n                                                                    \n                                        \n                                            \n                                            Other\n                                        \n                                    \n                                                            \n                        \n                    \n\n                    \n                    \n                        \n                            T-Shirt Information\n                            \n                        \n                    \n\n                    \n                        \n                            T-Shirt Size *\n                            \n                                Select Size\n                                                                                                    XS\n                                                                    S\n                                                                    M\n                                                                    L\n                                                                    XL\n                                                                    XXL\n                                                                    XXXL\n                                                            \n                        \n                        \n                            T-Shirt Style\n                            \n                                Select Style (Optional)\n                                Men's\n                                Women's\n                                Unisex\n                            \n                        \n                    \n\n                    \n                    \n                        \n                            Emergency Contact\n                            \n                        \n                    \n\n                    \n                        \n                            Emergency Contact Name *\n                            \n                        \n                        \n                            Emergency Contact Phone *\n                            \n                        \n                    \n\n                    \n                    \n                        \n                            Waiver and Legal Agreement\n                            \n                        \n                    \n\n                                            \n                                                            \n                                    \n                                        Waiver and Release of Liability\n                                        I know that participating in Shifting Gears United athletic events is potentially hazardous. I agree not to enter any Shifting Gears United race\, activity\, or sponsored event unless I am medically able and properly trained. I agree to abide by any decision of a race official relative to my ability to safely complete the activity. I assume all risks associated with participating\, including\, but not limited to: falls\, contact with vehicles\, other participants\, spectators\, or others\, the effect of the weather\, including high heat\, extreme cold and/ or humidity\, traffic conditions of the road\, all such risks being known and appreciated by me.\n\nHaving read this Waiver and knowing these facts\, and in consideration of your accepting my application\, I\, for myself or for my child and anyone else entitled to act on my behalf\, waive and release\, and agree to indemnify and hold harmless Shifting Gears United to which I belong (including directors\, officers\, leaders\, members\, athletes\, volunteers\, guides)\, the local county and city departments of Parks and Recreation\, all sponsors of Shifting Gears United and any of their races or events\, members and volunteers\, from present and future claims and liabilities of any kind\, known or unknown\, arising out of my participation in any Shifting Gears United event or related activities\, even though that liability may arise out of ordinary negligence or fault on the part of the persons named in this Waiver. By registering for a Shifting Gears United or any other race though Shifting Gears United\, I hereby grant my permission to Shifting Gears United to act as proxy on my behalf for that race with full authorization to execute consents\, waivers and releases included in the Shifting Gears United registration. I further grant my permission to all the foregoing to use photographs\, motion pictures\, recordings\, or any other record\nof my participation in Shifting Gears United for any legitimate purpose\, without remuneration. I have read this waiver and agree to the terms. \n                                                                                    \n                                                \n                                                    Initial Here *\n                                                    \n                                                \n                                            \n                                                                            \n                                \n                                                            \n                                    \n                                        Safe Sport Acknowledgement\n                                        I understand that (1) participation with Shifting Gear s United is strictly voluntary\, and (2) I a monthly to receive/provide running companionship\, advice\, and encouragement from my fellow Shifting Gears United athletes/volunteers/guides. If anything\, else is asked of me\, or if I am otherwise uncomfortable or concerned\, I will bring it to the immediate attention of the Shifting Gears United President. \n                                                                                    \n                                                \n                                                    Initial Here *\n                                                    \n                                                \n                                            \n                                                                            \n                                \n                                                    \n                    \n                    \n                    \n                        \n                            Printed Name *\n                            \n                        \n                        \n                            Digital Signature (Type your full name) *\n                            \n                            By typing your name here\, you acknowledge that this serves as your electronic signature.\n                        \n                    \n\n                    \n                    \n                        \n                            \n                                Parent/Guardian Information (Required for participants under 18)\n                                \n                            \n                        \n\n                        \n                            \n                                Parent/Guardian Name\n                                \n                            \n                            \n                                Parent/Guardian Digital Signature\n                                \n                            \n                        \n                    \n\n                    \n                    \n                        \n                            Witness Information (Optional)\n                            \n                        \n                    \n\n                    \n                        \n                            Witness Name\n                            \n                        \n                        \n                            Witness Digital Signature\n                            \n                        \n                    \n\n                    \n                        \n                            Submit Registration\n                        \n                    \n                \n            \n        \n    \n\n\n\n    \n        \n            \n                Registration Status\n                \n            \n            \n                \n            \n            \n                Close\n                New Registration
URL:https://shiftinggearsunited.org/event/kayak-paddling-clinic/2026-09-29/
LOCATION:North Palm Beach Rowing Club\, 13425 Ellison Wilson Road\, North Palm Beach\, 33408\, United States
CATEGORIES:Kayak | Paddleboard
END:VEVENT
END:VCALENDAR